Workbook
Name FED: LOOKUPS!$G$4:$H$170
Name FedDed: LOOKUPS!$P$4:$Q$210
Name NoGross: LOOKUPS!$D$4:$E$120
Name NoSS: LOOKUPS!$J$4:$K$178
Name NoSSDed: LOOKUPS!$S$4:$T$157
Name sc: 'Agency Request'!$SCR$7
Name State: LOOKUPS!$M$4:$N$177
Name State_Ded: LOOKUPS!$V$4:$W$42
Name unrecoverable: LOOKUPS!$A$21:$B$28

Sheet Instructions
A1: AGENCY RECOVERY REQUEST INSTRUCTIONS
A3: If the employee is overpaid and the agency is requesting a payroll check stop payment or a direct deposit reversal.
A4: 1. Complete the Agency Request tab form and email to PayrollReversalandExchange@osc.ny.gov within 24 hours of requesting the stop payment or direct deposit reversal.
A6: If the employee is overpaid and the agency is requesting a bank check.
A7: 1. Complete the Agency Request tab and email to PayrollReversalandExchange@osc.ny.gov before requesting anything from the employee.
A8: 2. OSC will review the request and respond to the agency with the proper recovery method and the verified amount.
A9: 3. The agency should request the verified amount from the employee via bank check.
A10: 4. Complete the ForDeposit tab and print.
A11: 5. Mail the Printed ForDeposit tab to the below address with the bank check.
A12: Note: If bank check pertains to more than one Agency Recovery Request worksheet provide the OSC Request ID for each worksheet on the ForDeposit tab.
A13: Note: OSC only accepts bank checks from the employee.
A15: Office of the State Comptroller
... A18: Albany, NY 12236

Sheet Agency Request
C1: 2026 Earnings Recovery Request
A2: Auto Tax Calc Worksheet | H2: OSC Request ID | O2: =C13&"_"&C3&"_"&TEXT(O12,"mm-dd-yyyy") -> __01-00-1900
A3: Employee ID | H3: Date Form Created
A4: Empl Record | H4: Dept ID
A5: Company | H5: Agency Contact Name
A6: Empl at SS Max | H6: Agency Contact Email
A8: Current EMPL Status | H8: Does OVH or Q Code Exist
A9: Repayment Method | H9: Cause of OVP
A10: Reason for Request
A12: PayCheck Number | H12: PayCheck Date
A13: PayGroup | H13: Total Days Overpaid
A14: Begin Date of OVP | H14: End Date of OVP
A15: EARNINGS
A16: Earnings Code | C16: Original Earnings | D16: Gross Amount | E16: Add to Fed | F16: Add to State | G16: Adds to SS | H16: Entitled To Earnings | J16: Add to Gross | K16: Add to Fed | L16: Add to State | M16: Adds to SS/Med | N16: Adds to Gross | O16: Return Earnings
D17: =IF(N17="Yes",C17,0) -> 0 | E17: =IF(ISNA(VLOOKUP(A17,FED,2,FALSE)),C17,0) -> 0 | F17: =IF(ISNA(VLOOKUP(A17,State,2,FALSE)),C17,0) -> 0 | G17: =IF(ISNA(VLOOKUP(A17,NoSS,2,FALSE)),C17,0) -> 0 | J17: =IF(N17="Yes",H17,0) -> 0 | K17: =IF(ISNA(VLOOKUP(A17,FED,2,FALSE)),H17,0) -> 0 | L17: =IF(ISNA(VLOOKUP(A17,State,2,FALSE)),H17,0) -> 0 | M17: =IF(ISNA(VLOOKUP(A17,NoSS,2,FALSE)),H17,0) -> 0 | N17: =IF(ISNA(VLOOKUP(A17,NoGross,2,FALSE)),"Yes","No") -> Yes | O17: =C17-H17 -> 0
D18: =IF(N18="Yes",C18,0) -> 0 | E18: =IF(ISNA(VLOOKUP(A18,FED,2,FALSE)),C18,0) -> 0 | F18: =IF(ISNA(VLOOKUP(A18,State,2,FALSE)),C18,0) -> 0 | G18: =IF(ISNA(VLOOKUP(A18,NoSS,2,FALSE)),C18,0) -> 0 | J18: =IF(N18="Yes",H18,0) -> 0 | K18: =IF(ISNA(VLOOKUP(A18,FED,2,FALSE)),H18,0) -> 0 | L18: =IF(ISNA(VLOOKUP(A18,State,2,FALSE)),H18,0) -> 0 | M18: =IF(ISNA(VLOOKUP(A18,NoSS,2,FALSE)),H18,0) -> 0 | N18: =IF(ISNA(VLOOKUP(A18,NoGross,2,FALSE)),"Yes","No") -> Yes | O18: =C18-H18 -> 0
D19: =IF(N19="Yes",C19,0) -> 0 | E19: =IF(ISNA(VLOOKUP(A19,FED,2,FALSE)),C19,0) -> 0 | F19: =IF(ISNA(VLOOKUP(A19,State,2,FALSE)),C19,0) -> 0 | G19: =IF(ISNA(VLOOKUP(A19,NoSS,2,FALSE)),C19,0) -> 0 | J19: =IF(N19="Yes",H19,0) -> 0 | K19: =IF(ISNA(VLOOKUP(A19,FED,2,FALSE)),H19,0) -> 0 | L19: =IF(ISNA(VLOOKUP(A19,State,2,FALSE)),H19,0) -> 0 | M19: =IF(ISNA(VLOOKUP(A19,NoSS,2,FALSE)),H19,0) -> 0 | N19: =IF(ISNA(VLOOKUP(A19,NoGross,2,FALSE)),"Yes","No") -> Yes | O19: =C19-H19 -> 0
D20: =IF(N20="Yes",C20,0) -> 0 | E20: =IF(ISNA(VLOOKUP(A20,FED,2,FALSE)),C20,0) -> 0 | F20: =IF(ISNA(VLOOKUP(A20,State,2,FALSE)),C20,0) -> 0 | G20: =IF(ISNA(VLOOKUP(A20,NoSS,2,FALSE)),C20,0) -> 0 | J20: =IF(N20="Yes",H20,0) -> 0 | K20: =IF(ISNA(VLOOKUP(A20,FED,2,FALSE)),H20,0) -> 0 | L20: =IF(ISNA(VLOOKUP(A20,State,2,FALSE)),H20,0) -> 0 | M20: =IF(ISNA(VLOOKUP(A20,NoSS,2,FALSE)),H20,0) -> 0 | N20: =IF(ISNA(VLOOKUP(A20,NoGross,2,FALSE)),"Yes","No") -> Yes | O20: =C20-H20 -> 0
D21: =IF(N21="Yes",C21,0) -> 0 | E21: =IF(ISNA(VLOOKUP(A21,FED,2,FALSE)),C21,0) -> 0 | F21: =IF(ISNA(VLOOKUP(A21,State,2,FALSE)),C21,0) -> 0 | G21: =IF(ISNA(VLOOKUP(A21,NoSS,2,FALSE)),C21,0) -> 0 | J21: =IF(N21="Yes",H21,0) -> 0 | K21: =IF(ISNA(VLOOKUP(A21,FED,2,FALSE)),H21,0) -> 0 | L21: =IF(ISNA(VLOOKUP(A21,State,2,FALSE)),H21,0) -> 0 | M21: =IF(ISNA(VLOOKUP(A21,NoSS,2,FALSE)),H21,0) -> 0 | N21: =IF(ISNA(VLOOKUP(A21,NoGross,2,FALSE)),"Yes","No") -> Yes | O21: =C21-H21 -> 0
D22: =IF(N22="Yes",C22,0) -> 0 | E22: =IF(ISNA(VLOOKUP(A22,FED,2,FALSE)),C22,0) -> 0 | F22: =IF(ISNA(VLOOKUP(A22,State,2,FALSE)),C22,0) -> 0 | G22: =IF(ISNA(VLOOKUP(A22,NoSS,2,FALSE)),C22,0) -> 0 | J22: =IF(N22="Yes",H22,0) -> 0 | K22: =IF(ISNA(VLOOKUP(A22,FED,2,FALSE)),H22,0) -> 0 | L22: =IF(ISNA(VLOOKUP(A22,State,2,FALSE)),H22,0) -> 0 | M22: =IF(ISNA(VLOOKUP(A22,NoSS,2,FALSE)),H22,0) -> 0 | N22: =IF(ISNA(VLOOKUP(A22,NoGross,2,FALSE)),"Yes","No") -> Yes | O22: =C22-H22 -> 0
D23: =IF(N23="Yes",C23,0) -> 0 | E23: =IF(ISNA(VLOOKUP(A23,FED,2,FALSE)),C23,0) -> 0 | F23: =IF(ISNA(VLOOKUP(A23,State,2,FALSE)),C23,0) -> 0 | G23: =IF(ISNA(VLOOKUP(A23,NoSS,2,FALSE)),C23,0) -> 0 | J23: =IF(N23="Yes",H23,0) -> 0 | K23: =IF(ISNA(VLOOKUP(A23,FED,2,FALSE)),H23,0) -> 0 | L23: =IF(ISNA(VLOOKUP(A23,State,2,FALSE)),H23,0) -> 0 | M23: =IF(ISNA(VLOOKUP(A23,NoSS,2,FALSE)),H23,0) -> 0 | N23: =IF(ISNA(VLOOKUP(A23,NoGross,2,FALSE)),"Yes","No") -> Yes | O23: =C23-H23 -> 0
D24: =IF(N24="Yes",C24,0) -> 0 | E24: =IF(ISNA(VLOOKUP(A24,FED,2,FALSE)),C24,0) -> 0 | F24: =IF(ISNA(VLOOKUP(A24,State,2,FALSE)),C24,0) -> 0 | G24: =IF(ISNA(VLOOKUP(A24,NoSS,2,FALSE)),C24,0) -> 0 | J24: =IF(N24="Yes",H24,0) -> 0 | K24: =IF(ISNA(VLOOKUP(A24,FED,2,FALSE)),H24,0) -> 0 | L24: =IF(ISNA(VLOOKUP(A24,State,2,FALSE)),H24,0) -> 0 | M24: =IF(ISNA(VLOOKUP(A24,NoSS,2,FALSE)),H24,0) -> 0 | N24: =IF(ISNA(VLOOKUP(A24,NoGross,2,FALSE)),"Yes","No") -> Yes | O24: =C24-H24 -> 0
D25: =IF(N25="Yes",C25,0) -> 0 | E25: =IF(ISNA(VLOOKUP(A25,FED,2,FALSE)),C25,0) -> 0 | F25: =IF(ISNA(VLOOKUP(A25,State,2,FALSE)),C25,0) -> 0 | G25: =IF(ISNA(VLOOKUP(A25,NoSS,2,FALSE)),C25,0) -> 0 | J25: =IF(N25="Yes",H25,0) -> 0 | K25: =IF(ISNA(VLOOKUP(A25,FED,2,FALSE)),H25,0) -> 0 | L25: =IF(ISNA(VLOOKUP(A25,State,2,FALSE)),H25,0) -> 0 | M25: =IF(ISNA(VLOOKUP(A25,NoSS,2,FALSE)),H25,0) -> 0 | N25: =IF(ISNA(VLOOKUP(A25,NoGross,2,FALSE)),"Yes","No") -> Yes | O25: =C25-H25 -> 0
D26: =IF(N26="Yes",C26,0) -> 0 | E26: =IF(ISNA(VLOOKUP(A26,FED,2,FALSE)),C26,0) -> 0 | F26: =IF(ISNA(VLOOKUP(A26,State,2,FALSE)),C26,0) -> 0 | G26: =IF(ISNA(VLOOKUP(A26,NoSS,2,FALSE)),C26,0) -> 0 | J26: =IF(N26="Yes",H26,0) -> 0 | K26: =IF(ISNA(VLOOKUP(A26,FED,2,FALSE)),H26,0) -> 0 | L26: =IF(ISNA(VLOOKUP(A26,State,2,FALSE)),H26,0) -> 0 | M26: =IF(ISNA(VLOOKUP(A26,NoSS,2,FALSE)),H26,0) -> 0 | N26: =IF(ISNA(VLOOKUP(A26,NoGross,2,FALSE)),"Yes","No") -> Yes | O26: =C26-H26 -> 0
D27: =IF(N27="Yes",C27,0) -> 0 | E27: =IF(ISNA(VLOOKUP(A27,FED,2,FALSE)),C27,0) -> 0 | F27: =IF(ISNA(VLOOKUP(A27,State,2,FALSE)),C27,0) -> 0 | G27: =IF(ISNA(VLOOKUP(A27,NoSS,2,FALSE)),C27,0) -> 0 | J27: =IF(N27="Yes",H27,0) -> 0 | K27: =IF(ISNA(VLOOKUP(A27,FED,2,FALSE)),H27,0) -> 0 | L27: =IF(ISNA(VLOOKUP(A27,State,2,FALSE)),H27,0) -> 0 | M27: =IF(ISNA(VLOOKUP(A27,NoSS,2,FALSE)),H27,0) -> 0 | N27: =IF(ISNA(VLOOKUP(A27,NoGross,2,FALSE)),"Yes","No") -> Yes | O27: =C27-H27 -> 0
D28: =IF(N28="Yes",C28,0) -> 0 | E28: =IF(ISNA(VLOOKUP(A28,FED,2,FALSE)),C28,0) -> 0 | F28: =IF(ISNA(VLOOKUP(A28,State,2,FALSE)),C28,0) -> 0 | G28: =IF(ISNA(VLOOKUP(A28,NoSS,2,FALSE)),C28,0) -> 0 | J28: =IF(N28="Yes",H28,0) -> 0 | K28: =IF(ISNA(VLOOKUP(A28,FED,2,FALSE)),H28,0) -> 0 | L28: =IF(ISNA(VLOOKUP(A28,State,2,FALSE)),H28,0) -> 0 | M28: =IF(ISNA(VLOOKUP(A28,NoSS,2,FALSE)),H28,0) -> 0 | N28: =IF(ISNA(VLOOKUP(A28,NoGross,2,FALSE)),"Yes","No") -> Yes | O28: =C28-H28 -> 0
... D35: =IF(N35="Yes",C35,0) -> 0 | E35: =IF(ISNA(VLOOKUP(A35,FED,2,FALSE)),C35,0) -> 0 | F35: =IF(ISNA(VLOOKUP(A35,State,2,FALSE)),C35,0) -> 0 | G35: =IF(ISNA(VLOOKUP(A35,NoSS,2,FALSE)),C35,0) -> 0 | J35: =IF(N35="Yes",H35,0) -> 0 | K35: =IF(ISNA(VLOOKUP(A35,FED,2,FALSE)),H35,0) -> 0 | L35: =IF(ISNA(VLOOKUP(A35,State,2,FALSE)),H35,0) -> 0 | M35: =IF(ISNA(VLOOKUP(A35,NoSS,2,FALSE)),H35,0) -> 0 | N35: =IF(ISNA(VLOOKUP(A35,NoGross,2,FALSE)),"Yes","No") -> Yes | O35: =C35-H35 -> 0
A36: GROSS | C36: =D36 -> 0 | D36: =SUM(D17:D35) -> 0 | E36: =SUM(E17:E35) -> 0 | F36: =SUM(F17:F35) -> 0 | G36: =SUM(G17:G35) -> 0 | H36: =J36 -> 0 | J36: =SUM(J17:J35) -> 0 | K36: =SUM(K17:K35) -> 0 | L36: =SUM(L17:L35) -> 0 | M36: =SUM(M17:M35) -> 0 | O36: =D36-J36 -> 0
A37: TAXES
A38: Tax Type | C38: Original Tax | H38: Entitled To Tax | O38: Return Tax
A39: FED TAX | K39: =K36-K67 -> 0 | O39: =IF(C39>0,C39-H39,"") | R39: Fed | S39: =C39/E39 -> #DIV/0!
A40: NYS TAX | L40: =L36-L67 -> 0 | O40: =IF(C40>0,C40-H40,"") | R40: State | S40: =C40/F40 -> #DIV/0!
A41: LOCAL | O41: =IF(C41>0,C41-H41,"") | R41: Local Tax | S41: =C41/F40 -> #DIV/0!
A42: OTHER TAX | O42: =IF(C42>0,C42-H42,"") | R42: Other | S42: =C42/F40 -> #DIV/0!
A43: SS TAX (FICA) 6.2% | G43: =G36-G67 -> 0 | H43: =IF(C43>0,ROUND(M43*LOOKUPS!Z16,2),"") | M43: =M36-M67 -> 0 | O43: =IF(C43>0,C43-H43,"")
A44: MEDICARE 1.45% | G44: =G36-G67 -> 0 | H44: =IF(C44>0,ROUND(M44*LOOKUPS!Z17,2),"") | M44: =M36-M67 -> 0 | O44: =IF(C44>0,C44-H44,"")
A45: PFL (FLI) | H45: =IF(C45>0,ROUND(J36*LOOKUPS!Z18,2),"") | O45: =IF(C45>0,C45-H45,"")
C46: =SUM(C39:C45) -> 0 | H46: =SUM(H39:H45) -> 0 | O46: =SUM(O39:O45) -> 0
A47: DEDUCTIONS
A48: Deduction Code | B48: Tax Class | C48: Original Ded | D48: Original EE | E48: BT FED | F48: BT State | G48: BT SS/MED | H48: Entitled To Ded | I48: Should be EE | J48: Should be ER | K48: BT FED | L48: BT State | M48: BT SS/MED | N48: Should be Unrecoverable | O48: Return Ded
...

Sheet OSC AUDIT
A1: Earnings Recovery Request
I2: OSC Request ID | P2: =C13&"_"&C3&"_"&TEXT(P12,"mm/dd/yyyy") -> 0_0_01/00/1900
A3: Employee ID | C3: ='Agency Request'!C3 -> 0 | I3: Date Form Created | P3: ='Agency Request'!O3 -> 0
A4: Empl Record | C4: ='Agency Request'!C4 -> 0 | I4: Dept ID | P4: ='Agency Request'!O4 -> 0
A5: Company | C5: ='Agency Request'!C5 -> 0 | I5: Agency Contact Name | P5: ='Agency Request'!O5 -> 0
A6: Empl at SS Max | C6: ='Agency Request'!C6 -> 0 | I6: Agency Contact Email | P6: ='Agency Request'!O6 -> 0
A8: Current EMPL Status | C8: ='Agency Request'!C8 -> 0 | I8: Does OVH or Q Code Exist | P8: ='Agency Request'!O8 -> 0
A9: Repayment Method | D9: ='Agency Request'!#REF! -> #REF! | I9: Cause of OVP | P9: ='Agency Request'!O9 -> 0
A10: Reason for Request | C10: ='Agency Request'!C10 -> 0
A12: PayCheck Number | C12: ='Agency Request'!C12 -> 0 | I12: PayCheck Date | P12: ='Agency Request'!O12 -> 0
A13: PayGroup | C13: ='Agency Request'!C13 -> 0 | I13: Total Days Overpaid | P13: ='Agency Request'!O13 -> 0
A14: Begin Date of OVP | C14: ='Agency Request'!C14 -> 0 | I14: End Date of OVP | P14: ='Agency Request'!O14 -> 0
A15: Audit Date | D15: 43831 | I15: Auditor
A16: EARNINGS
A17: Earnings Code | C17: Original Earnings | E17: Gross Amount | F17: Add to Fed | G17: Add to State | H17: Adds to SS | I17: Entitled To Earnings | K17: Add to Gross | L17: Add to Fed | M17: Add to State | N17: Adds to SS/Med | O17: Adds to Gross | P17: Return Earnings
A18: ='Agency Request'!A17 -> 0 | C18: ='Agency Request'!C17 -> 0 | E18: =IF(O18="Yes",C18,0) -> 0 | F18: =IF(ISNA(VLOOKUP(A18,FED,2,FALSE)),C18,0) -> 0 | G18: =IF(ISNA(VLOOKUP(A18,State,2,FALSE)),C18,0) -> 0 | H18: =IF(ISNA(VLOOKUP(A18,NoSS,2,FALSE)),C18,0) -> 0 | I18: ='Agency Request'!H17 -> 0 | K18: =IF(O18="Yes",I18,0) -> 0 | L18: =IF(ISNA(VLOOKUP(A18,FED,2,FALSE)),I18,0) -> 0 | M18: =IF(ISNA(VLOOKUP(A18,State,2,FALSE)),I18,0) -> 0 | N18: =IF(ISNA(VLOOKUP(A18,NoSS,2,FALSE)),I18,0) -> 0 | O18: =IF(ISNA(VLOOKUP(A18,NoGross,2,FALSE)),"Yes","No") -> Yes | P18: =C18-I18 -> 0
A19: ='Agency Request'!A18 -> 0 | C19: ='Agency Request'!C18 -> 0 | E19: =IF(O19="Yes",C19,0) -> 0 | F19: =IF(ISNA(VLOOKUP(A19,FED,2,FALSE)),C19,0) -> 0 | G19: =IF(ISNA(VLOOKUP(A19,State,2,FALSE)),C19,0) -> 0 | H19: =IF(ISNA(VLOOKUP(A19,NoSS,2,FALSE)),C19,0) -> 0 | I19: ='Agency Request'!H18 -> 0 | K19: =IF(O19="Yes",I19,0) -> 0 | L19: =IF(ISNA(VLOOKUP(A19,FED,2,FALSE)),I19,0) -> 0 | M19: =IF(ISNA(VLOOKUP(A19,State,2,FALSE)),I19,0) -> 0 | N19: =IF(ISNA(VLOOKUP(A19,NoSS,2,FALSE)),I19,0) -> 0 | O19: =IF(ISNA(VLOOKUP(A19,NoGross,2,FALSE)),"Yes","No") -> Yes | P19: =C19-I19 -> 0
A20: ='Agency Request'!A19 -> 0 | C20: ='Agency Request'!C19 -> 0 | E20: =IF(O20="Yes",C20,0) -> 0 | F20: =IF(ISNA(VLOOKUP(A20,FED,2,FALSE)),C20,0) -> 0 | G20: =IF(ISNA(VLOOKUP(A20,State,2,FALSE)),C20,0) -> 0 | H20: =IF(ISNA(VLOOKUP(A20,NoSS,2,FALSE)),C20,0) -> 0 | I20: ='Agency Request'!H19 -> 0 | K20: =IF(O20="Yes",I20,0) -> 0 | L20: =IF(ISNA(VLOOKUP(A20,FED,2,FALSE)),I20,0) -> 0 | M20: =IF(ISNA(VLOOKUP(A20,State,2,FALSE)),I20,0) -> 0 | N20: =IF(ISNA(VLOOKUP(A20,NoSS,2,FALSE)),I20,0) -> 0 | O20: =IF(ISNA(VLOOKUP(A20,NoGross,2,FALSE)),"Yes","No") -> Yes | P20: =C20-I20 -> 0
A21: ='Agency Request'!A20 -> 0 | C21: ='Agency Request'!C20 -> 0 | E21: =IF(O21="Yes",C21,0) -> 0 | F21: =IF(ISNA(VLOOKUP(A21,FED,2,FALSE)),C21,0) -> 0 | G21: =IF(ISNA(VLOOKUP(A21,State,2,FALSE)),C21,0) -> 0 | H21: =IF(ISNA(VLOOKUP(A21,NoSS,2,FALSE)),C21,0) -> 0 | I21: ='Agency Request'!H20 -> 0 | K21: =IF(O21="Yes",I21,0) -> 0 | L21: =IF(ISNA(VLOOKUP(A21,FED,2,FALSE)),I21,0) -> 0 | M21: =IF(ISNA(VLOOKUP(A21,State,2,FALSE)),I21,0) -> 0 | N21: =IF(ISNA(VLOOKUP(A21,NoSS,2,FALSE)),I21,0) -> 0 | O21: =IF(ISNA(VLOOKUP(A21,NoGross,2,FALSE)),"Yes","No") -> Yes | P21: =C21-I21 -> 0
A22: ='Agency Request'!A21 -> 0 | C22: ='Agency Request'!C21 -> 0 | E22: =IF(O22="Yes",C22,0) -> 0 | F22: =IF(ISNA(VLOOKUP(A22,FED,2,FALSE)),C22,0) -> 0 | G22: =IF(ISNA(VLOOKUP(A22,State,2,FALSE)),C22,0) -> 0 | H22: =IF(ISNA(VLOOKUP(A22,NoSS,2,FALSE)),C22,0) -> 0 | I22: ='Agency Request'!H21 -> 0 | K22: =IF(O22="Yes",I22,0) -> 0 | L22: =IF(ISNA(VLOOKUP(A22,FED,2,FALSE)),I22,0) -> 0 | M22: =IF(ISNA(VLOOKUP(A22,State,2,FALSE)),I22,0) -> 0 | N22: =IF(ISNA(VLOOKUP(A22,NoSS,2,FALSE)),I22,0) -> 0 | O22: =IF(ISNA(VLOOKUP(A22,NoGross,2,FALSE)),"Yes","No") -> Yes | P22: =C22-I22 -> 0
A23: ='Agency Request'!A22 -> 0 | C23: ='Agency Request'!C22 -> 0 | E23: =IF(O23="Yes",C23,0) -> 0 | F23: =IF(ISNA(VLOOKUP(A23,FED,2,FALSE)),C23,0) -> 0 | G23: =IF(ISNA(VLOOKUP(A23,State,2,FALSE)),C23,0) -> 0 | H23: =IF(ISNA(VLOOKUP(A23,NoSS,2,FALSE)),C23,0) -> 0 | I23: ='Agency Request'!H22 -> 0 | K23: =IF(O23="Yes",I23,0) -> 0 | L23: =IF(ISNA(VLOOKUP(A23,FED,2,FALSE)),I23,0) -> 0 | M23: =IF(ISNA(VLOOKUP(A23,State,2,FALSE)),I23,0) -> 0 | N23: =IF(ISNA(VLOOKUP(A23,NoSS,2,FALSE)),I23,0) -> 0 | O23: =IF(ISNA(VLOOKUP(A23,NoGross,2,FALSE)),"Yes","No") -> Yes | P23: =C23-I23 -> 0
A24: ='Agency Request'!A23 -> 0 | C24: ='Agency Request'!C23 -> 0 | E24: =IF(O24="Yes",C24,0) -> 0 | F24: =IF(ISNA(VLOOKUP(A24,FED,2,FALSE)),C24,0) -> 0 | G24: =IF(ISNA(VLOOKUP(A24,State,2,FALSE)),C24,0) -> 0 | H24: =IF(ISNA(VLOOKUP(A24,NoSS,2,FALSE)),C24,0) -> 0 | I24: ='Agency Request'!H23 -> 0 | K24: =IF(O24="Yes",I24,0) -> 0 | L24: =IF(ISNA(VLOOKUP(A24,FED,2,FALSE)),I24,0) -> 0 | M24: =IF(ISNA(VLOOKUP(A24,State,2,FALSE)),I24,0) -> 0 | N24: =IF(ISNA(VLOOKUP(A24,NoSS,2,FALSE)),I24,0) -> 0 | O24: =IF(ISNA(VLOOKUP(A24,NoGross,2,FALSE)),"Yes","No") -> Yes | P24: =C24-I24 -> 0
A25: ='Agency Request'!A24 -> 0 | C25: ='Agency Request'!C24 -> 0 | E25: =IF(O25="Yes",C25,0) -> 0 | F25: =IF(ISNA(VLOOKUP(A25,FED,2,FALSE)),C25,0) -> 0 | G25: =IF(ISNA(VLOOKUP(A25,State,2,FALSE)),C25,0) -> 0 | H25: =IF(ISNA(VLOOKUP(A25,NoSS,2,FALSE)),C25,0) -> 0 | I25: ='Agency Request'!H24 -> 0 | K25: =IF(O25="Yes",I25,0) -> 0 | L25: =IF(ISNA(VLOOKUP(A25,FED,2,FALSE)),I25,0) -> 0 | M25: =IF(ISNA(VLOOKUP(A25,State,2,FALSE)),I25,0) -> 0 | N25: =IF(ISNA(VLOOKUP(A25,NoSS,2,FALSE)),I25,0) -> 0 | O25: =IF(ISNA(VLOOKUP(A25,NoGross,2,FALSE)),"Yes","No") -> Yes | P25: =C25-I25 -> 0
A26: ='Agency Request'!A25 -> 0 | C26: ='Agency Request'!C25 -> 0 | E26: =IF(O26="Yes",C26,0) -> 0 | F26: =IF(ISNA(VLOOKUP(A26,FED,2,FALSE)),C26,0) -> 0 | G26: =IF(ISNA(VLOOKUP(A26,State,2,FALSE)),C26,0) -> 0 | H26: =IF(ISNA(VLOOKUP(A26,NoSS,2,FALSE)),C26,0) -> 0 | I26: ='Agency Request'!H25 -> 0 | K26: =IF(O26="Yes",I26,0) -> 0 | L26: =IF(ISNA(VLOOKUP(A26,FED,2,FALSE)),I26,0) -> 0 | M26: =IF(ISNA(VLOOKUP(A26,State,2,FALSE)),I26,0) -> 0 | N26: =IF(ISNA(VLOOKUP(A26,NoSS,2,FALSE)),I26,0) -> 0 | O26: =IF(ISNA(VLOOKUP(A26,NoGross,2,FALSE)),"Yes","No") -> Yes | P26: =C26-I26 -> 0
A27: ='Agency Request'!A26 -> 0 | C27: ='Agency Request'!C26 -> 0 | E27: =IF(O27="Yes",C27,0) -> 0 | F27: =IF(ISNA(VLOOKUP(A27,FED,2,FALSE)),C27,0) -> 0 | G27: =IF(ISNA(VLOOKUP(A27,State,2,FALSE)),C27,0) -> 0 | H27: =IF(ISNA(VLOOKUP(A27,NoSS,2,FALSE)),C27,0) -> 0 | I27: ='Agency Request'!H26 -> 0 | K27: =IF(O27="Yes",I27,0) -> 0 | L27: =IF(ISNA(VLOOKUP(A27,FED,2,FALSE)),I27,0) -> 0 | M27: =IF(ISNA(VLOOKUP(A27,State,2,FALSE)),I27,0) -> 0 | N27: =IF(ISNA(VLOOKUP(A27,NoSS,2,FALSE)),I27,0) -> 0 | O27: =IF(ISNA(VLOOKUP(A27,NoGross,2,FALSE)),"Yes","No") -> Yes | P27: =C27-I27 -> 0
A28: ='Agency Request'!A27 -> 0 | C28: ='Agency Request'!C27 -> 0 | E28: =IF(O28="Yes",C28,0) -> 0 | F28: =IF(ISNA(VLOOKUP(A28,FED,2,FALSE)),C28,0) -> 0 | G28: =IF(ISNA(VLOOKUP(A28,State,2,FALSE)),C28,0) -> 0 | H28: =IF(ISNA(VLOOKUP(A28,NoSS,2,FALSE)),C28,0) -> 0 | I28: ='Agency Request'!H27 -> 0 | K28: =IF(O28="Yes",I28,0) -> 0 | L28: =IF(ISNA(VLOOKUP(A28,FED,2,FALSE)),I28,0) -> 0 | M28: =IF(ISNA(VLOOKUP(A28,State,2,FALSE)),I28,0) -> 0 | N28: =IF(ISNA(VLOOKUP(A28,NoSS,2,FALSE)),I28,0) -> 0 | O28: =IF(ISNA(VLOOKUP(A28,NoGross,2,FALSE)),"Yes","No") -> Yes | P28: =C28-I28 -> 0
A29: ='Agency Request'!A28 -> 0 | C29: ='Agency Request'!C28 -> 0 | E29: =IF(O29="Yes",C29,0) -> 0 | F29: =IF(ISNA(VLOOKUP(A29,FED,2,FALSE)),C29,0) -> 0 | G29: =IF(ISNA(VLOOKUP(A29,State,2,FALSE)),C29,0) -> 0 | H29: =IF(ISNA(VLOOKUP(A29,NoSS,2,FALSE)),C29,0) -> 0 | I29: ='Agency Request'!H28 -> 0 | K29: =IF(O29="Yes",I29,0) -> 0 | L29: =IF(ISNA(VLOOKUP(A29,FED,2,FALSE)),I29,0) -> 0 | M29: =IF(ISNA(VLOOKUP(A29,State,2,FALSE)),I29,0) -> 0 | N29: =IF(ISNA(VLOOKUP(A29,NoSS,2,FALSE)),I29,0) -> 0 | O29: =IF(ISNA(VLOOKUP(A29,NoGross,2,FALSE)),"Yes","No") -> Yes | P29: =C29-I29 -> 0
... A36: ='Agency Request'!A35 -> 0 | C36: ='Agency Request'!C35 -> 0 | E36: =IF(O36="Yes",C36,0) -> 0 | F36: =IF(ISNA(VLOOKUP(A36,FED,2,FALSE)),C36,0) -> 0 | G36: =IF(ISNA(VLOOKUP(A36,State,2,FALSE)),C36,0) -> 0 | H36: =IF(ISNA(VLOOKUP(A36,NoSS,2,FALSE)),C36,0) -> 0 | I36: ='Agency Request'!H35 -> 0 | K36: =IF(O36="Yes",I36,0) -> 0 | L36: =IF(ISNA(VLOOKUP(A36,FED,2,FALSE)),I36,0) -> 0 | M36: =IF(ISNA(VLOOKUP(A36,State,2,FALSE)),I36,0) -> 0 | N36: =IF(ISNA(VLOOKUP(A36,NoSS,2,FALSE)),I36,0) -> 0 | O36: =IF(ISNA(VLOOKUP(A36,NoGross,2,FALSE)),"Yes","No") -> Yes | P36: =C36-I36 -> 0
A37: GROSS | C37: =E37 -> 0 | E37: =SUM(E18:E36) -> 0 | F37: =SUM(F18:F36) -> 0 | G37: =SUM(G18:G36) -> 0 | H37: =SUM(H18:H36) -> 0 | I37: =K37 -> 0 | K37: =SUM(K18:K36) -> 0 | L37: =SUM(L18:L36) -> 0 | M37: =SUM(M18:M36) -> 0 | N37: =SUM(N18:N36) -> 0 | P37: =E37-K37 -> 0
A38: TAXES
A39: Tax Type | C39: Original Tax | I39: Entitled To Tax | P39: Return Tax
A40: FED TAX | C40: ='Agency Request'!C39 -> 0 | E40: ='Agency Request'!E39 -> 0 | G40: ='Agency Request'!G39 -> 0 | I40: ='Agency Request'!H39 -> 0 | L40: =L37-L68 -> 0 | P40: =C40-I40 -> 0 | S40: Fed | T40: =C40/F40 -> #DIV/0!
A41: NYS TAX | C41: ='Agency Request'!C40 -> 0 | E41: ='Agency Request'!E40 -> 0 | G41: ='Agency Request'!G40 -> 0 | I41: ='Agency Request'!H40 -> 0 | M41: =M37-M68 -> 0 | P41: =C41-I41 -> 0 | S41: State | T41: =C41/G41 -> #DIV/0!
A42: LOCAL | B42: ='Agency Request'!B41 -> 0 | C42: ='Agency Request'!C41 -> 0 | E42: ='Agency Request'!E41 -> 0 | G42: ='Agency Request'!G41 -> 0 | I42: ='Agency Request'!H41 -> 0 | P42: =C42-I42 -> 0 | S42: Local Tax | T42: =C42/G41 -> #DIV/0!
A43: OTHER TAX | B43: ='Agency Request'!B42 -> 0 | C43: ='Agency Request'!C42 -> 0 | E43: ='Agency Request'!E42 -> 0 | G43: ='Agency Request'!G42 -> 0 | I43: ='Agency Request'!H42 -> 0 | P43: =C43-I43 -> 0 | S43: Other | T43: =C43/G41 -> #DIV/0!
A44: SS TAX (FICA) 6.2% | C44: ='Agency Request'!C43 -> 0 | H44: =H37-H68 -> 0 | I44: =IF(C44>0,ROUND(N44*LOOKUPS!Z16,2),"") | N44: =N37-N68 -> 0 | P44: =IF(C44>0,C44-I44,"")
A45: MEDICARE 1.45% | C45: ='Agency Request'!C44 -> 0 | H45: =H37-H68 -> 0 | I45: =IF(C45>0,ROUND(N45*LOOKUPS!Z17,2),"") | N45: =N37-N68 -> 0 | P45: =IF(C45>0,C45-I45,"")
A46: PFL (FLI) | C46: ='Agency Request'!C45 -> 0 | I46: =IF(C46>0,ROUND(K37*LOOKUPS!Z18,2),"") | P46: =IF(C46>0,C46-I46,"")
C47: =SUM(C40:C46) -> 0 | I47: =SUM(I40:I46) -> 0 | P47: =SUM(P40:P46) -> 0
A48: DEDUCTIONS
...

Sheet ForDeposit 
A1: For Deposit to Payroll Reversal and Exchange
A2: ='Agency Request'!H2 -> OSC Request ID | B2: ='Agency Request'!O2 -> __01-00-1900 | L2: Certified Bank Check
A3: Repayment Type | B3: Certified Bank Check | L3: Money Order
A4: Bank Check Number
A5: Bank Check Amount
A6: Bank Check Date
A7: Date Sent
A9: * This form should be used when submitting a certified bank check.
A10: If the employee is paying with a payroll check or direct deposit reversal
A11: this form is not necessary.
A14: If bank check is to be applied to multipled payroll reversals
A15: list the other OSC Request ID's below.
A16: OSC Request ID
A17: OSC Request ID
A18: OSC Request ID

Sheet LOOKUPS
O1: DON"T FORGET TO FORMAT DED CODES AS # OR LOOKUP WON"T WORK
D3: Earn No Gross | G3: No Fed Earning | J3: No FICA Earnings | M3: No State Earnings | P3: No Fed Tax Ded | S3: No SS Ded | V3: No State Ded | Y3: Federal (Withholding) | Z3: H$U
D4: 0XX | E4: N | G4: 10X | H4: N | J4: 0XX | K4: N | M4: 10X | N4: N | P4: 336 | Q4: N | S4: 336 | T4: N | V4: 336 | W4: N | Y4: Social Security (OASDI/Dis) | Z4: D$U
B5: Column1 | D5: 5XX | E5: N | G5: 10Y | H5: N | J5: 10X | K5: N | M5: 10Y | N5: N | P5: 388 | Q5: N | S5: 388 | T5: N | V5: 388 | W5: N | Y5: Medicare (FICA MED) | Z5: F$U
D6: 6XX | E6: N | G6: 10Z | H6: N | J6: 10Y | K6: N | M6: 10Z | N6: N | P6: 402 | Q6: N | S6: 402 | T6: N | V6: 402 | W6: N | Y6: Additional Medicare | Z6: 7$U
A7: YES | B7: YES | D7: 7XX | E7: N | G7: 11X | H7: N | J7: 10Z | K7: N | M7: 11X | N7: N | P7: 403 | Q7: N | S7: 410 | T7: N | V7: 403 | W7: N | Y7: State (withholding) | Z7: HNY
A8: NO | B8: NO | D8: 8XX | E8: N | G8: 11Y | H8: N | J8: 11X | K8: N | M8: 11Y | N8: N | P8: 404 | Q8: N | S8: 421 | T8: N | V8: 404 | W8: N | Y8: PFL
A9: Tax Class | D9: 9XX | E9: N | G9: 11Z | H9: N | J9: 11Y | K9: N | M9: 11Z | N9: N | P9: 405 | Q9: N | S9: 428 | T9: N | V9: 405 | W9: N
D10: ATT | E10: N | G10: 12X | H10: N | J10: 11Z | K10: N | M10: 12X | N10: N | P10: 408 | Q10: N | S10: 434 | T10: N | V10: 408 | W10: N
A11: B (EE) | D11: CFR | E11: N | G11: 12Y | H11: N | J11: 12X | K11: N | M11: 12Y | N11: N | P11: 410 | Q11: N | S11: 435 | T11: N | V11: 410 | W11: N
A12: A (EE) | D12: CN1 | E12: N | G12: 12Z | H12: N | J12: 12Y | K12: N | M12: 12Z | N12: N | P12: 411 | Q12: N | S12: 438 | T12: N | V12: 413 | W12: N
A13: N/P (ER) | D13: CN2 | E13: N | G13: 13X | H13: N | J13: 12Z | K13: N | M13: 13X | N13: N | P13: 411 | Q13: N | S13: 443 | T13: N | V13: 414 | W13: N
D14: CN3 | E14: N | G14: 13Y | H14: N | J14: 13X | K14: N | M14: 13Y | N14: N | P14: 413 | Q14: N | S14: 445 | T14: N | V14: 415 | W14: N
D15: EDA | E15: N | G15: 13Z | H15: N | J15: 13Y | K15: N | M15: 13Z | N15: N | P15: 414 | Q15: N | S15: 446 | T15: N | V15: 416 | W15: N
A16: Local Taxes | D16: EDF | E16: N | G16: 14X | H16: N | J16: 13Z | K16: N | M16: 14X | N16: N | P16: 415 | Q16: N | S16: 511 | T16: N | V16: 416 | W16: N | Y16: SS | Z16: 0.062
A17: P0001 | D17: FRB | E17: N | G17: 14Y | H17: N | J17: 14X | K17: N | M17: 14Y | N17: N | P17: 416 | Q17: N | S17: 655 | T17: N | V17: 417 | W17: N | Y17: Med | Z17: 0.0145
A18: 84000 | D18: GIR | E18: N | G18: 14Z | H18: N | J18: 14Y | K18: N | M18: 14Z | N18: N | P18: 416 | Q18: N | S18: 656 | T18: N | V18: 418 | W18: N | Y18: PFL | Z18: 0.00432
D19: GIS | E19: N | G19: 15X | H19: N | J19: 14Z | K19: N | M19: 15X | N19: N | P19: 417 | Q19: N | S19: 691 | T19: N | V19: 419 | W19: N
D20: HAS | E20: N | G20: 15Y | H20: N | J20: 15X | K20: N | M20: 15Y | N20: N | P20: 418 | Q20: N | S20: 692 | T20: N | V20: 421 | W20: N
B21: Y | D21: HCR | E21: N | G21: 15Z | H21: N | J21: 15Y | K21: N | M21: 15Z | N21: N | P21: 419 | Q21: N | S21: 693 | T21: N | V21: 428 | W21: N
A22: 438 | B22: Y | D22: HXX | E22: N | G22: 16X | H22: N | J22: 15Z | K22: N | M22: 16X | N22: N | P22: 421 | Q22: N | S22: 694 | T22: N | V22: 432 | W22: N
A23: 439 | B23: Y | D23: ICR | E23: N | G23: 16Y | H23: N | J23: 16X | K23: N | M23: 16Y | N23: N | P23: 428 | Q23: N | S23: 695 | T23: N | V23: 434 | W23: N
A24: 440 | B24: Y | D24: ICS | E24: N | G24: 16Z | H24: N | J24: 16Y | K24: N | M24: 16Z | N24: N | P24: 432 | Q24: N | S24: 696 | T24: N | V24: 435 | W24: N
A25: 441 | B25: Y | D25: IIQ | E25: N | G25: 17X | H25: N | J25: 16Z | K25: N | M25: 17X | N25: N | P25: 434 | Q25: N | S25: BTX011 | T25: N | V25: 438 | W25: N
A26: 446 | B26: Y | D26: IIR | E26: N | G26: 17Y | H26: N | J26: 17X | K26: N | M26: 17Y | N26: N | P26: 435 | Q26: N | S26: BTX013 | T26: N | V26: 446 | W26: N
A27: 447 | B27: Y | D27: IIS | E27: N | G27: 17Z | H27: N | J27: 17Y | K27: N | M27: 17Z | N27: N | P27: 438 | Q27: N | S27: BTX01A | T27: N | V27: 511 | W27: N
A28: 757 | B28: Y | D28: IRM | E28: N | G28: 18X | H28: N | J28: 17Z | K28: N | M28: 18X | N28: N | P28: 442 | Q28: N | S28: BTX01C | T28: N | V28: 655 | W28: N
A29: GARNSH | D29: ISM | E29: N | G29: 18Y | H29: N | J29: 18X | K29: N | M29: 18Y | N29: N | P29: 443 | Q29: N | S29: BTX01G | T29: N | V29: 656 | W29: N
D30: MVE | E30: N | G30: 18Z | H30: N | J30: 18Y | K30: N | M30: 18Z | N30: N | P30: 445 | Q30: N | S30: BTX01H | T30: N | V30: 691 | W30: N
D31: NOT | E31: N | G31: 19X | H31: N | J31: 18Z | K31: N | M31: 19X | N31: N | P31: 446 | Q31: N | S31: BTX01K | T31: N | V31: 692 | W31: N
A32: EMPL STATUS | D32: OVH | E32: N | G32: 19Y | H32: N | J32: 19X | K32: N | M32: 19Y | N32: N | P32: 511 | Q32: N | S32: BTX01N | T32: N | V32: 693 | W32: N
A33: Active | D33: OXX | E33: N | G33: 19Z | H33: N | J33: 19Y | K33: N | M33: 19Z | N33: N | P33: 516 | Q33: N | S33: BTX01Q | T33: N | V33: 694 | W33: N
A34: Leave w/o Pay | D34: PEV | E34: N | G34: 20X | H34: N | J34: 19Z | K34: N | M34: 20X | N34: N | P34: 606 | Q34: N | S34: BTX021 | T34: N | V34: 695 | W34: N
A35: Paid Leave | D35: PL1 | E35: N | G35: 20Y | H35: N | J35: 20X | K35: N | M35: 20Y | N35: N | P35: 608 | Q35: N | S35: BTX023 | T35: N | V35: 696 | W35: N
A36: Terminated | D36: PL2 | E36: N | G36: 20Z | H36: N | J36: 20Y | K36: N | M36: 20Z | N36: N | P36: 611 | Q36: N | S36: BTX02N | T36: N | V36: BTXPYR | W36: N
A37: Retired | D37: PL3 | E37: N | G37: 21X | H37: N | J37: 20Z | K37: N | M37: 21X | N37: N | P37: 613 | Q37: N | S37: BTX02Q | T37: N | V37: HIBTRG | W37: N
A38: Deceased | D38: PL4 | E38: N | G38: 21Y | H38: N | J38: 21X | K38: N | M38: 21Y | N38: N | P38: 616 | Q38: N | S38: BTX031 | T38: N | V38: HIBTSP | W38: N
D39: PL5 | E39: N | G39: 21Z | H39: N | J39: 21Y | K39: N | M39: 21Z | N39: N | P39: 618 | Q39: N | S39: BTX033 | T39: N
D40: RSA | E40: N | G40: 22X | H40: N | J40: 21Z | K40: N | M40: 22X | N40: N | P40: 622 | Q40: N | S40: BTX03G | T40: N
D41: RVC | E41: N | G41: 22Y | H41: N | J41: 22X | K41: N | M41: 22Y | N41: N | P41: 624 | Q41: N | S41: BTX03H | T41: N
...

Sheet Lookup SQL
A2: {=-- Earn No Gross} -> #NAME?
A3: Select E.ERNCD, E.ADD_GROSS
A4: from PS_EARNINGS_TBL E
A5: Where E.EFFDT = (Select Max (ED.EFFDT) From PS_EARNINGS_TBL ED
A6: Where E.ERNCD = ED.ERNCD and E.EFFDT <= SYSDATE)
A7: AND E.ADD_GROSS = 'N'
A8: AND E.EFF_STATUS = 'A'
A9: ;
A11: {=--No FED Earnings} -> #NAME?
A12: Select E.ERNCD, E.SUBJECT_FWT
A13: from PS_EARNINGS_TBL E
A14: Where E.EFFDT = (Select Max (ED.EFFDT) From PS_EARNINGS_TBL ED
A15: Where E.ERNCD = ED.ERNCD and E.EFFDT <= SYSDATE)
A16: AND
A17: E.SUBJECT_FWT = 'N'
A18: AND E.EFF_STATUS = 'A'
A19: ;
A20: {=-- No FICA Earnings} -> #NAME?
A21: Select E.ERNCD, E.SUBJECT_FICA
A22: from PS_EARNINGS_TBL E
A23: Where E.EFFDT = (Select Max (ED.EFFDT) From PS_EARNINGS_TBL ED
A24: Where E.ERNCD = ED.ERNCD and E.EFFDT <= SYSDATE)
A25: AND
A26: E.SUBJECT_FICA = 'N'
A27: AND E.EFF_STATUS = 'A'
A28: ;
A29: {=-- No State Earnings} -> #NAME?
A30: -- PUll all then filter everything where Subject_FWT = N with no Tax Gross Component should be N (not subject to State Tax.
A31: -- Anything with a Suject_FWT = Y and a Tax Gross Component should also be N (Not subject to State Tax.
A32: --If there is an N for Subject_FWT and a Tax Gross Component they are subject to state>
A33: --MUST VERIFY There are no new Tax Gross Components to be added to the next query EACH YEAR
A34: Select E.ERNCD, E.SUBJECT_FWT, E.TAX_GRS_COMPNT
A35: from PS_EARNINGS_TBL E
A36: Where E.EFFDT = (Select Max (ED.EFFDT) From PS_EARNINGS_TBL ED
A37: Where E.ERNCD = ED.ERNCD and E.EFFDT <= SYSDATE)
A38: AND E.EFF_STATUS = 'A'
A39: ;
A41: {=--No State Tax Earnings} -> #NAME?
A42: {=--VERIFY No Tax Gross Components need to be added.} -> #NAME?
A43: Select E.ERNCD, 'N' as No_State
...
